BEGIN:VCALENDAR
VERSION:2.0
PRODID:-//wp-events-plugin.com//7.1.7//EN
TZID:Europe/Zurich
X-WR-TIMEZONE:Europe/Zurich
BEGIN:VEVENT
UID:1@cieplatypus.ch
DTSTART;TZID=Europe/Zurich:20241204T200000
DTEND;TZID=Europe/Zurich:20241204T200000
DTSTAMP:20240929T095714Z
URL:https://cieplatypus.ch/agenda/last-inaction-heroes-lordre-du-canape/
SUMMARY:Last Inaction Heroes: L'Ordre du Canapé
DESCRIPTION:Les superhéro·ïne·s sont partout\, au cinéma\, dans les bd
 \, les séries\, sur les t-shirts. Pourquoi le théâtre n’aurait-il pas
 \, lui aussi\, droit à son univers de personnages populaires en collants\
 , volant au secours des gens ordinaires ?\n\nPlus d'informations ici
ATTACH;FMTTYPE=image/jpeg:https://cieplatypus.ch/wp-content/uploads/2024/0
 9/Hard-Sky-fond-blanc-scaled-e1727603385156.jpg
LOCATION:Théâtre de l'Oriental\, Rue d'Italie 22\, Vevey\, Suisse
X-APPLE-STRUCTURED-LOCATION;VALUE=URI;X-ADDRESS=Rue d'Italie 22\, Vevey\, S
 uisse;X-APPLE-RADIUS=100;X-TITLE=Théâtre de l'Oriental:geo:0,0
END:VEVENT
BEGIN:VTIMEZONE
TZID:Europe/Zurich
X-LIC-LOCATION:Europe/Zurich
BEGIN:STANDARD
DTSTART:20241027T020000
TZOFFSETFROM:+0200
TZOFFSETTO:+0100
TZNAME:CET
END:STANDARD
END:VTIMEZONE
END:VCALENDAR