BEGIN:VCALENDAR
VERSION:2.0
PRODID:-//Compagnie Platypus - ECPv6.15.11//NONSGML v1.0//EN
CALSCALE:GREGORIAN
METHOD:PUBLISH
X-ORIGINAL-URL:https://cieplatypus.ch
X-WR-CALDESC:Évènements pour Compagnie Platypus
REFRESH-INTERVAL;VALUE=DURATION:PT1H
X-Robots-Tag:noindex
X-PUBLISHED-TTL:PT1H
BEGIN:VTIMEZONE
TZID:Europe/Zurich
BEGIN:DAYLIGHT
TZOFFSETFROM:+0100
TZOFFSETTO:+0200
TZNAME:CEST
DTSTART:20200329T010000
END:DAYLIGHT
BEGIN:STANDARD
TZOFFSETFROM:+0200
TZOFFSETTO:+0100
TZNAME:CET
DTSTART:20201025T010000
END:STANDARD
BEGIN:DAYLIGHT
TZOFFSETFROM:+0100
TZOFFSETTO:+0200
TZNAME:CEST
DTSTART:20210328T010000
END:DAYLIGHT
BEGIN:STANDARD
TZOFFSETFROM:+0200
TZOFFSETTO:+0100
TZNAME:CET
DTSTART:20211031T010000
END:STANDARD
BEGIN:DAYLIGHT
TZOFFSETFROM:+0100
TZOFFSETTO:+0200
TZNAME:CEST
DTSTART:20220327T010000
END:DAYLIGHT
BEGIN:STANDARD
TZOFFSETFROM:+0200
TZOFFSETTO:+0100
TZNAME:CET
DTSTART:20221030T010000
END:STANDARD
BEGIN:DAYLIGHT
TZOFFSETFROM:+0100
TZOFFSETTO:+0200
TZNAME:CEST
DTSTART:20230326T010000
END:DAYLIGHT
BEGIN:STANDARD
TZOFFSETFROM:+0200
TZOFFSETTO:+0100
TZNAME:CET
DTSTART:20231029T010000
END:STANDARD
BEGIN:DAYLIGHT
TZOFFSETFROM:+0100
TZOFFSETTO:+0200
TZNAME:CEST
DTSTART:20240331T010000
END:DAYLIGHT
BEGIN:STANDARD
TZOFFSETFROM:+0200
TZOFFSETTO:+0100
TZNAME:CET
DTSTART:20241027T010000
END:STANDARD
BEGIN:DAYLIGHT
TZOFFSETFROM:+0100
TZOFFSETTO:+0200
TZNAME:CEST
DTSTART:20250330T010000
END:DAYLIGHT
BEGIN:STANDARD
TZOFFSETFROM:+0200
TZOFFSETTO:+0100
TZNAME:CET
DTSTART:20251026T010000
END:STANDARD
BEGIN:DAYLIGHT
TZOFFSETFROM:+0100
TZOFFSETTO:+0200
TZNAME:CEST
DTSTART:20260329T010000
END:DAYLIGHT
BEGIN:STANDARD
TZOFFSETFROM:+0200
TZOFFSETTO:+0100
TZNAME:CET
DTSTART:20261025T010000
END:STANDARD
END:VTIMEZONE
BEGIN:VEVENT
DTSTART;TZID=Europe/Zurich:20250523T080000
DTEND;TZID=Europe/Zurich:20250525T170000
DTSTAMP:20260421T024608
CREATED:20250902T205431Z
LAST-MODIFIED:20250902T205432Z
UID:29083-1747987200-1748192400@cieplatypus.ch
SUMMARY:Printemps Lutin
DESCRIPTION:Au Pays vert\, tout allait très bien\, jusqu’à l’arrivée des humains. Les fées et les lutins parviendront-iels à retrouver la magie?Dans le cadre du Cabaret en chantier
URL:https://cieplatypus.ch/event/printemps-lutin/
END:VEVENT
BEGIN:VEVENT
DTSTART;TZID=Europe/Zurich:20250211T080000
DTEND;TZID=Europe/Zurich:20250215T170000
DTSTAMP:20260421T024608
CREATED:20250902T205730Z
LAST-MODIFIED:20250902T205731Z
UID:29087-1739260800-1739638800@cieplatypus.ch
SUMMARY:Last Inaction Heroes: L'Ordre du Canapé
DESCRIPTION:Les superhéro·ïne·s sont partout\, au cinéma\, dans les bd\, les séries\, sur les t-shirts. Pourquoi le théâtre n’aurait-il pas\, lui aussi\, droit à son univers de personnages populaires en collants\, volant au secours des gens ordinaires ?
URL:https://cieplatypus.ch/event/last-inaction-heroes-lordre-du-canape-2/
END:VEVENT
BEGIN:VEVENT
DTSTART;TZID=Europe/Zurich:20241204T200000
DTEND;TZID=Europe/Zurich:20241208T213000
DTSTAMP:20260421T024608
CREATED:20240928T140018Z
LAST-MODIFIED:20250902T205502Z
UID:29015-1733342400-1733693400@cieplatypus.ch
SUMMARY:Last Inaction Heroes: L'Ordre du Canapé
DESCRIPTION:Les superhéro·ïne·s sont partout\, au cinéma\, dans les bd\, les séries\, sur les t-shirts. Pourquoi le théâtre n’aurait-il pas\, lui aussi\, droit à son univers de personnages populaires en collants\, volant au secours des gens ordinaires ?
URL:https://cieplatypus.ch/event/last-inaction-heroes-lordre-du-canape/
LOCATION:Théâtre de l’Oriental\, Rue d'Italie 22\, 1800 Vevey
END:VEVENT
BEGIN:VEVENT
DTSTART;TZID=Europe/Zurich:20240426T100000
DTEND;TZID=Europe/Zurich:20240426T120000
DTSTAMP:20260421T024608
CREATED:20240419T163105Z
LAST-MODIFIED:20240419T163236Z
UID:28956-1714125600-1714132800@cieplatypus.ch
SUMMARY:Pile Poil Pareil!
DESCRIPTION:Pile Poil Pareil!\nJouer tout seul\, c’est chouette\, mais jouer ensemble\, c’est encore mieux! Même si des fois\, ce n’est pas facile de se faire des amis\, et même si des fois\, on ne sait pas trop comment faire pour que ça fonctionne!\n\n\nSpectacle de 20-25 minutes�\nle vendredi 26 avril à 10h00 [complet] à 11h00 [reste quelques places]\nau TAMT La Turlutaine\, Rue du Nord 67\, à La Chaux-de-Fonds\n\n\nhttps://www.laturlutaine.ch/minitaine-6-2/\n\n\n(Conception\, fabrication\, mise en scène et jeu\, Sarah Frund)
URL:https://cieplatypus.ch/event/pile-poil-pareil/
LOCATION:TAMT – La turlutaine\, La Chaux-de-Fonds
END:VEVENT
BEGIN:VEVENT
DTSTART;TZID=Europe/Zurich:20210626T200000
DTEND;TZID=Europe/Zurich:20210626T200000
DTSTAMP:20260421T024608
CREATED:20240419T163450Z
LAST-MODIFIED:20250902T204816Z
UID:28959-1624737600-1624737600@cieplatypus.ch
SUMMARY:Tentative d'Épuisement
DESCRIPTION:En 1974\, Georges Perec s’installe trois jours durant dans les cafés de la place Saint-Sulpice et décrit ce qu’il voit. En 2020\, je tombe sous le charme de ce texte et du regard de Perec sur les gens\, les véhicules\, les oiseaux\, le temps qui passe. Avec Claire Deutsch à la mise en scène\, nous avons décidé d’en faire un spectacle.
URL:https://cieplatypus.ch/event/tentative-depuisement/
END:VEVENT
END:VCALENDAR